BEGIN:VCALENDAR
VERSION:2.0
PRODID:-//Hulme Walfield &amp; Somerford Booths Parish Council//Meeting Calendar//EN
CALSCALE:GREGORIAN
METHOD:PUBLISH
BEGIN:VEVENT
UID:70804-20250918@hulmewalfieldandsomerfordbooths-pc.gov.uk
DTSTAMP:20260420T083810Z
DTSTART;VALUE=DATE:20250918
DTEND;VALUE=DATE:20250919
SUMMARY:Council Meeting &#8211\\; 18th September 2025
DESCRIPTION:Full Council Meeting\nView details: https://hulmewalfieldandsomerfordbooths-pc.gov.uk/meetings/council-meeting-18th-september-2025/
URL:https://hulmewalfieldandsomerfordbooths-pc.gov.uk/meetings/council-meeting-18th-september-2025/
END:VEVENT
END:VCALENDAR
