BEGIN:VCALENDAR
VERSION:2.0
PRODID:-//Hulme Walfield &amp; Somerford Booths Parish Council//Meeting Calendar//EN
CALSCALE:GREGORIAN
METHOD:PUBLISH
BEGIN:VEVENT
UID:70557-20220120@hulmewalfieldandsomerfordbooths-pc.gov.uk
DTSTAMP:20260422T101602Z
DTSTART;VALUE=DATE:20220120
DTEND;VALUE=DATE:20220121
SUMMARY:Council Meetings &#8211\\; 2022
DESCRIPTION:Full Council Meeting\nView details: https://hulmewalfieldandsomerfordbooths-pc.gov.uk/meetings/council-meetings-2022/
URL:https://hulmewalfieldandsomerfordbooths-pc.gov.uk/meetings/council-meetings-2022/
END:VEVENT
END:VCALENDAR
